BEGIN:VCALENDAR
VERSION:2.0
PRODID:-//PAINT PAINA - ECPv6.15.20//NONSGML v1.0//EN
CALSCALE:GREGORIAN
METHOD:PUBLISH
X-ORIGINAL-URL:https://paintpaina.com
X-WR-CALDESC:Events for PAINT PAINA
REFRESH-INTERVAL;VALUE=DURATION:PT1H
X-Robots-Tag:noindex
X-PUBLISHED-TTL:PT1H
BEGIN:VTIMEZONE
TZID:Pacific/Honolulu
BEGIN:STANDARD
TZOFFSETFROM:-1000
TZOFFSETTO:-1000
TZNAME:HST
DTSTART:20230101T000000
END:STANDARD
END:VTIMEZONE
BEGIN:VEVENT
DTSTART;TZID=Pacific/Honolulu:20260123T180000
DTEND;TZID=Pacific/Honolulu:20260123T200000
DTSTAMP:20260423T065220
CREATED:20251025T211856Z
LAST-MODIFIED:20251025T222206Z
UID:10001766-1769191200-1769198400@paintpaina.com
SUMMARY:Paint Pāʻina @ Ritz-Carlton Turtle Bay\, Oahu North Shore - Paint the Ocean views
DESCRIPTION:Every TUESDAY and FRIDAY\, let the natural surroundings of the North Shore inspire your creativity. \n\nEverything you need to create your own artwork and bring a piece of paradise home.\nRelaxing and social atmosphere led by our talented instructor.\n$115 per person\n\nFor more information\, Visit The Guidepost at Turtle Bay Resort \nE Komo Mai! All are welcome! No outside food or drinks allowed. \nTo book big groups or if you have any questions you can e-mail us at paintpaina@gmail.com
URL:https://paintpaina.com/event/paint-pa%ca%bbina-ritz-carlton-turtle-bay-paint-the-ocean-views/2026-01-23/
LOCATION:Ritz-Carlton Oʻahu\, Turtle Bay\, 57-091 Kamehameha Hwy\, Kahuku\, HI\, 96712\, United States
ATTACH;FMTTYPE=image/jpeg:https://paintpaina.com/wp-content/uploads/2025/10/Turtle-Bay-scaled.jpg
ORGANIZER;CN="Alicia Malia":MAILTO:paintpaina@gmail.com
END:VEVENT
BEGIN:VEVENT
DTSTART;TZID=Pacific/Honolulu:20260116T180000
DTEND;TZID=Pacific/Honolulu:20260116T200000
DTSTAMP:20260423T065220
CREATED:20251025T211856Z
LAST-MODIFIED:20251025T222206Z
UID:10001765-1768586400-1768593600@paintpaina.com
SUMMARY:Paint Pāʻina @ Ritz-Carlton Turtle Bay\, Oahu North Shore - Paint the Ocean views
DESCRIPTION:Every TUESDAY and FRIDAY\, let the natural surroundings of the North Shore inspire your creativity. \n\nEverything you need to create your own artwork and bring a piece of paradise home.\nRelaxing and social atmosphere led by our talented instructor.\n$115 per person\n\nFor more information\, Visit The Guidepost at Turtle Bay Resort \nE Komo Mai! All are welcome! No outside food or drinks allowed. \nTo book big groups or if you have any questions you can e-mail us at paintpaina@gmail.com
URL:https://paintpaina.com/event/paint-pa%ca%bbina-ritz-carlton-turtle-bay-paint-the-ocean-views/2026-01-16/
LOCATION:Ritz-Carlton Oʻahu\, Turtle Bay\, 57-091 Kamehameha Hwy\, Kahuku\, HI\, 96712\, United States
ATTACH;FMTTYPE=image/jpeg:https://paintpaina.com/wp-content/uploads/2025/10/Turtle-Bay-scaled.jpg
ORGANIZER;CN="Alicia Malia":MAILTO:paintpaina@gmail.com
END:VEVENT
BEGIN:VEVENT
DTSTART;TZID=Pacific/Honolulu:20260109T180000
DTEND;TZID=Pacific/Honolulu:20260109T200000
DTSTAMP:20260423T065220
CREATED:20251025T211856Z
LAST-MODIFIED:20251025T222206Z
UID:10001764-1767981600-1767988800@paintpaina.com
SUMMARY:Paint Pāʻina @ Ritz-Carlton Turtle Bay\, Oahu North Shore - Paint the Ocean views
DESCRIPTION:Every TUESDAY and FRIDAY\, let the natural surroundings of the North Shore inspire your creativity. \n\nEverything you need to create your own artwork and bring a piece of paradise home.\nRelaxing and social atmosphere led by our talented instructor.\n$115 per person\n\nFor more information\, Visit The Guidepost at Turtle Bay Resort \nE Komo Mai! All are welcome! No outside food or drinks allowed. \nTo book big groups or if you have any questions you can e-mail us at paintpaina@gmail.com
URL:https://paintpaina.com/event/paint-pa%ca%bbina-ritz-carlton-turtle-bay-paint-the-ocean-views/2026-01-09/
LOCATION:Ritz-Carlton Oʻahu\, Turtle Bay\, 57-091 Kamehameha Hwy\, Kahuku\, HI\, 96712\, United States
ATTACH;FMTTYPE=image/jpeg:https://paintpaina.com/wp-content/uploads/2025/10/Turtle-Bay-scaled.jpg
ORGANIZER;CN="Alicia Malia":MAILTO:paintpaina@gmail.com
END:VEVENT
BEGIN:VEVENT
DTSTART;TZID=Pacific/Honolulu:20260102T180000
DTEND;TZID=Pacific/Honolulu:20260102T200000
DTSTAMP:20260423T065220
CREATED:20251025T211856Z
LAST-MODIFIED:20251025T222206Z
UID:10001763-1767376800-1767384000@paintpaina.com
SUMMARY:Paint Pāʻina @ Ritz-Carlton Turtle Bay\, Oahu North Shore - Paint the Ocean views
DESCRIPTION:Every TUESDAY and FRIDAY\, let the natural surroundings of the North Shore inspire your creativity. \n\nEverything you need to create your own artwork and bring a piece of paradise home.\nRelaxing and social atmosphere led by our talented instructor.\n$115 per person\n\nFor more information\, Visit The Guidepost at Turtle Bay Resort \nE Komo Mai! All are welcome! No outside food or drinks allowed. \nTo book big groups or if you have any questions you can e-mail us at paintpaina@gmail.com
URL:https://paintpaina.com/event/paint-pa%ca%bbina-ritz-carlton-turtle-bay-paint-the-ocean-views/2026-01-02/
LOCATION:Ritz-Carlton Oʻahu\, Turtle Bay\, 57-091 Kamehameha Hwy\, Kahuku\, HI\, 96712\, United States
ATTACH;FMTTYPE=image/jpeg:https://paintpaina.com/wp-content/uploads/2025/10/Turtle-Bay-scaled.jpg
ORGANIZER;CN="Alicia Malia":MAILTO:paintpaina@gmail.com
END:VEVENT
BEGIN:VEVENT
DTSTART;TZID=Pacific/Honolulu:20251226T180000
DTEND;TZID=Pacific/Honolulu:20251226T200000
DTSTAMP:20260423T065220
CREATED:20251025T211856Z
LAST-MODIFIED:20251025T222206Z
UID:10001762-1766772000-1766779200@paintpaina.com
SUMMARY:Paint Pāʻina @ Ritz-Carlton Turtle Bay\, Oahu North Shore - Paint the Ocean views
DESCRIPTION:Every TUESDAY and FRIDAY\, let the natural surroundings of the North Shore inspire your creativity. \n\nEverything you need to create your own artwork and bring a piece of paradise home.\nRelaxing and social atmosphere led by our talented instructor.\n$115 per person\n\nFor more information\, Visit The Guidepost at Turtle Bay Resort \nE Komo Mai! All are welcome! No outside food or drinks allowed. \nTo book big groups or if you have any questions you can e-mail us at paintpaina@gmail.com
URL:https://paintpaina.com/event/paint-pa%ca%bbina-ritz-carlton-turtle-bay-paint-the-ocean-views/2025-12-26/
LOCATION:Ritz-Carlton Oʻahu\, Turtle Bay\, 57-091 Kamehameha Hwy\, Kahuku\, HI\, 96712\, United States
ATTACH;FMTTYPE=image/jpeg:https://paintpaina.com/wp-content/uploads/2025/10/Turtle-Bay-scaled.jpg
ORGANIZER;CN="Alicia Malia":MAILTO:paintpaina@gmail.com
END:VEVENT
BEGIN:VEVENT
DTSTART;TZID=Pacific/Honolulu:20251219T180000
DTEND;TZID=Pacific/Honolulu:20251219T200000
DTSTAMP:20260423T065220
CREATED:20251025T211856Z
LAST-MODIFIED:20251025T222206Z
UID:10001761-1766167200-1766174400@paintpaina.com
SUMMARY:Paint Pāʻina @ Ritz-Carlton Turtle Bay\, Oahu North Shore - Paint the Ocean views
DESCRIPTION:Every TUESDAY and FRIDAY\, let the natural surroundings of the North Shore inspire your creativity. \n\nEverything you need to create your own artwork and bring a piece of paradise home.\nRelaxing and social atmosphere led by our talented instructor.\n$115 per person\n\nFor more information\, Visit The Guidepost at Turtle Bay Resort \nE Komo Mai! All are welcome! No outside food or drinks allowed. \nTo book big groups or if you have any questions you can e-mail us at paintpaina@gmail.com
URL:https://paintpaina.com/event/paint-pa%ca%bbina-ritz-carlton-turtle-bay-paint-the-ocean-views/2025-12-19/
LOCATION:Ritz-Carlton Oʻahu\, Turtle Bay\, 57-091 Kamehameha Hwy\, Kahuku\, HI\, 96712\, United States
ATTACH;FMTTYPE=image/jpeg:https://paintpaina.com/wp-content/uploads/2025/10/Turtle-Bay-scaled.jpg
ORGANIZER;CN="Alicia Malia":MAILTO:paintpaina@gmail.com
END:VEVENT
BEGIN:VEVENT
DTSTART;TZID=Pacific/Honolulu:20251212T180000
DTEND;TZID=Pacific/Honolulu:20251212T200000
DTSTAMP:20260423T065220
CREATED:20251025T211856Z
LAST-MODIFIED:20251025T222206Z
UID:10001760-1765562400-1765569600@paintpaina.com
SUMMARY:Paint Pāʻina @ Ritz-Carlton Turtle Bay\, Oahu North Shore - Paint the Ocean views
DESCRIPTION:Every TUESDAY and FRIDAY\, let the natural surroundings of the North Shore inspire your creativity. \n\nEverything you need to create your own artwork and bring a piece of paradise home.\nRelaxing and social atmosphere led by our talented instructor.\n$115 per person\n\nFor more information\, Visit The Guidepost at Turtle Bay Resort \nE Komo Mai! All are welcome! No outside food or drinks allowed. \nTo book big groups or if you have any questions you can e-mail us at paintpaina@gmail.com
URL:https://paintpaina.com/event/paint-pa%ca%bbina-ritz-carlton-turtle-bay-paint-the-ocean-views/2025-12-12/
LOCATION:Ritz-Carlton Oʻahu\, Turtle Bay\, 57-091 Kamehameha Hwy\, Kahuku\, HI\, 96712\, United States
ATTACH;FMTTYPE=image/jpeg:https://paintpaina.com/wp-content/uploads/2025/10/Turtle-Bay-scaled.jpg
ORGANIZER;CN="Alicia Malia":MAILTO:paintpaina@gmail.com
END:VEVENT
BEGIN:VEVENT
DTSTART;TZID=Pacific/Honolulu:20251205T180000
DTEND;TZID=Pacific/Honolulu:20251205T200000
DTSTAMP:20260423T065220
CREATED:20251025T211856Z
LAST-MODIFIED:20251025T222206Z
UID:10001759-1764957600-1764964800@paintpaina.com
SUMMARY:Paint Pāʻina @ Ritz-Carlton Turtle Bay\, Oahu North Shore - Paint the Ocean views
DESCRIPTION:Every TUESDAY and FRIDAY\, let the natural surroundings of the North Shore inspire your creativity. \n\nEverything you need to create your own artwork and bring a piece of paradise home.\nRelaxing and social atmosphere led by our talented instructor.\n$115 per person\n\nFor more information\, Visit The Guidepost at Turtle Bay Resort \nE Komo Mai! All are welcome! No outside food or drinks allowed. \nTo book big groups or if you have any questions you can e-mail us at paintpaina@gmail.com
URL:https://paintpaina.com/event/paint-pa%ca%bbina-ritz-carlton-turtle-bay-paint-the-ocean-views/2025-12-05/
LOCATION:Ritz-Carlton Oʻahu\, Turtle Bay\, 57-091 Kamehameha Hwy\, Kahuku\, HI\, 96712\, United States
ATTACH;FMTTYPE=image/jpeg:https://paintpaina.com/wp-content/uploads/2025/10/Turtle-Bay-scaled.jpg
ORGANIZER;CN="Alicia Malia":MAILTO:paintpaina@gmail.com
END:VEVENT
BEGIN:VEVENT
DTSTART;TZID=Pacific/Honolulu:20251128T180000
DTEND;TZID=Pacific/Honolulu:20251128T200000
DTSTAMP:20260423T065220
CREATED:20251025T211856Z
LAST-MODIFIED:20251025T222206Z
UID:10001758-1764352800-1764360000@paintpaina.com
SUMMARY:Paint Pāʻina @ Ritz-Carlton Turtle Bay\, Oahu North Shore - Paint the Ocean views
DESCRIPTION:Every TUESDAY and FRIDAY\, let the natural surroundings of the North Shore inspire your creativity. \n\nEverything you need to create your own artwork and bring a piece of paradise home.\nRelaxing and social atmosphere led by our talented instructor.\n$115 per person\n\nFor more information\, Visit The Guidepost at Turtle Bay Resort \nE Komo Mai! All are welcome! No outside food or drinks allowed. \nTo book big groups or if you have any questions you can e-mail us at paintpaina@gmail.com
URL:https://paintpaina.com/event/paint-pa%ca%bbina-ritz-carlton-turtle-bay-paint-the-ocean-views/2025-11-28/
LOCATION:Ritz-Carlton Oʻahu\, Turtle Bay\, 57-091 Kamehameha Hwy\, Kahuku\, HI\, 96712\, United States
ATTACH;FMTTYPE=image/jpeg:https://paintpaina.com/wp-content/uploads/2025/10/Turtle-Bay-scaled.jpg
ORGANIZER;CN="Alicia Malia":MAILTO:paintpaina@gmail.com
END:VEVENT
BEGIN:VEVENT
DTSTART;TZID=Pacific/Honolulu:20251121T180000
DTEND;TZID=Pacific/Honolulu:20251121T200000
DTSTAMP:20260423T065220
CREATED:20251025T211856Z
LAST-MODIFIED:20251025T222206Z
UID:10001757-1763748000-1763755200@paintpaina.com
SUMMARY:Paint Pāʻina @ Ritz-Carlton Turtle Bay\, Oahu North Shore - Paint the Ocean views
DESCRIPTION:Every TUESDAY and FRIDAY\, let the natural surroundings of the North Shore inspire your creativity. \n\nEverything you need to create your own artwork and bring a piece of paradise home.\nRelaxing and social atmosphere led by our talented instructor.\n$115 per person\n\nFor more information\, Visit The Guidepost at Turtle Bay Resort \nE Komo Mai! All are welcome! No outside food or drinks allowed. \nTo book big groups or if you have any questions you can e-mail us at paintpaina@gmail.com
URL:https://paintpaina.com/event/paint-pa%ca%bbina-ritz-carlton-turtle-bay-paint-the-ocean-views/2025-11-21/
LOCATION:Ritz-Carlton Oʻahu\, Turtle Bay\, 57-091 Kamehameha Hwy\, Kahuku\, HI\, 96712\, United States
ATTACH;FMTTYPE=image/jpeg:https://paintpaina.com/wp-content/uploads/2025/10/Turtle-Bay-scaled.jpg
ORGANIZER;CN="Alicia Malia":MAILTO:paintpaina@gmail.com
END:VEVENT
BEGIN:VEVENT
DTSTART;TZID=Pacific/Honolulu:20251114T180000
DTEND;TZID=Pacific/Honolulu:20251114T200000
DTSTAMP:20260423T065220
CREATED:20251025T211856Z
LAST-MODIFIED:20251025T222206Z
UID:10001756-1763143200-1763150400@paintpaina.com
SUMMARY:Paint Pāʻina @ Ritz-Carlton Turtle Bay\, Oahu North Shore - Paint the Ocean views
DESCRIPTION:Every TUESDAY and FRIDAY\, let the natural surroundings of the North Shore inspire your creativity. \n\nEverything you need to create your own artwork and bring a piece of paradise home.\nRelaxing and social atmosphere led by our talented instructor.\n$115 per person\n\nFor more information\, Visit The Guidepost at Turtle Bay Resort \nE Komo Mai! All are welcome! No outside food or drinks allowed. \nTo book big groups or if you have any questions you can e-mail us at paintpaina@gmail.com
URL:https://paintpaina.com/event/paint-pa%ca%bbina-ritz-carlton-turtle-bay-paint-the-ocean-views/2025-11-14/
LOCATION:Ritz-Carlton Oʻahu\, Turtle Bay\, 57-091 Kamehameha Hwy\, Kahuku\, HI\, 96712\, United States
ATTACH;FMTTYPE=image/jpeg:https://paintpaina.com/wp-content/uploads/2025/10/Turtle-Bay-scaled.jpg
ORGANIZER;CN="Alicia Malia":MAILTO:paintpaina@gmail.com
END:VEVENT
BEGIN:VEVENT
DTSTART;TZID=Pacific/Honolulu:20251107T180000
DTEND;TZID=Pacific/Honolulu:20251107T200000
DTSTAMP:20260423T065220
CREATED:20251025T211856Z
LAST-MODIFIED:20251025T222206Z
UID:10001755-1762538400-1762545600@paintpaina.com
SUMMARY:Paint Pāʻina @ Ritz-Carlton Turtle Bay\, Oahu North Shore - Paint the Ocean views
DESCRIPTION:Every TUESDAY and FRIDAY\, let the natural surroundings of the North Shore inspire your creativity. \n\nEverything you need to create your own artwork and bring a piece of paradise home.\nRelaxing and social atmosphere led by our talented instructor.\n$115 per person\n\nFor more information\, Visit The Guidepost at Turtle Bay Resort \nE Komo Mai! All are welcome! No outside food or drinks allowed. \nTo book big groups or if you have any questions you can e-mail us at paintpaina@gmail.com
URL:https://paintpaina.com/event/paint-pa%ca%bbina-ritz-carlton-turtle-bay-paint-the-ocean-views/2025-11-07/
LOCATION:Ritz-Carlton Oʻahu\, Turtle Bay\, 57-091 Kamehameha Hwy\, Kahuku\, HI\, 96712\, United States
ATTACH;FMTTYPE=image/jpeg:https://paintpaina.com/wp-content/uploads/2025/10/Turtle-Bay-scaled.jpg
ORGANIZER;CN="Alicia Malia":MAILTO:paintpaina@gmail.com
END:VEVENT
BEGIN:VEVENT
DTSTART;TZID=Pacific/Honolulu:20240831T170000
DTEND;TZID=Pacific/Honolulu:20240831T190000
DTSTAMP:20260423T065220
CREATED:20240805T214450Z
LAST-MODIFIED:20240831T210647Z
UID:10000629-1725123600-1725130800@paintpaina.com
SUMMARY:Only 2 seats left! WINE GLASS PAINTING! w/ Paint Paʻina @ Lifted Spirits Winery & Wellness in Kailua\, Oahu
DESCRIPTION:Winery & Wellness\, 155b Hamakua Dr\, Kailua HI 96734 \nExperience the perfect blend of relaxation and creativity at Kailua’s newest hotspot\, Lifted Spirits. Our serene environment\, coupled with our exquisite in-house wine\, provides the ideal backdrop for your next creative experience! \nImmerse yourself in a relaxing atmosphere designed to inspire and soothe. Savor the unique flavors of our handcrafted wines\, made with passion and precision right here at Lifted Spirits. Unleash your inner artist with our fun and engaging paint parties\, perfect for friends\, family\, or a solo creative escape. \nJoin us at Lifted Spirits in Kailua\, where every visit is a celebration of art\, relaxation\, and exceptional wine. Book your reservation today and lift your spirits with us! \nTicket includes 2 wine glasses to paint on and two glasses of wine to sip on. Also included are supplies\, artist intruction and HI GE TAX \nJust $38.00 per person and a 2 drink minimum. Click here for Drink Menu!
URL:https://paintpaina.com/event/paint-pa%ca%bbina-lifted-spirits-in-kailua-oahu/
LOCATION:Lifted Spirits Hawaii\, 155 Hamakua Drive\, Kailua\, 96734\, United States
ATTACH;FMTTYPE=image/jpeg:https://paintpaina.com/wp-content/uploads/2023/03/IMG_1222-scaled.jpg
ORGANIZER;CN="Alicia Malia":MAILTO:paintpaina@gmail.com
END:VEVENT
BEGIN:VEVENT
DTSTART;TZID=Pacific/Honolulu:20240720T170000
DTEND;TZID=Pacific/Honolulu:20240720T190000
DTSTAMP:20260423T065220
CREATED:20240626T065026Z
LAST-MODIFIED:20240706T000926Z
UID:10000519-1721494800-1721502000@paintpaina.com
SUMMARY:Paint Paʻina @ Lifted Spirits in Kailua\, Oahu
DESCRIPTION:Winery & Wellness \nExperience the perfect blend of relaxation and creativity at Kailua’s newest hotspot\, Lifted Spirits. Our serene environment\, coupled with our exquisite in-house wine\, provides the ideal backdrop for your next creative experience! \nImmerse yourself in a relaxing atmosphere designed to inspire and soothe. Savor the unique flavors of our handcrafted wines\, made with passion and precision right here at Lifted Spirits. Unleash your inner artist with our fun and engaging paint parties\, perfect for friends\, family\, or a solo creative escape. \nJoin us at Lifted Spirits in Kailua\, where every visit is a celebration of art\, relaxation\, and exceptional wine. Book your reservation today and lift your spirits with us! \nJust $38.00 per person and a 2 drink minimum. Click here for Drink Menu!
URL:https://paintpaina.com/event/lifted-spirits/
LOCATION:Lifted Spirits Hawaii\, 155 Hamakua Drive\, Kailua\, 96734\, United States
ATTACH;FMTTYPE=image/jpeg:https://paintpaina.com/wp-content/uploads/2024/06/IMG_7491-scaled.jpeg
ORGANIZER;CN="Alicia Malia":MAILTO:paintpaina@gmail.com
END:VEVENT
END:VCALENDAR