BEGIN:VCALENDAR
VERSION:2.0
PRODID:-//PAINT PAINA - ECPv6.15.20//NONSGML v1.0//EN
CALSCALE:GREGORIAN
METHOD:PUBLISH
X-ORIGINAL-URL:https://paintpaina.com
X-WR-CALDESC:Events for PAINT PAINA
REFRESH-INTERVAL;VALUE=DURATION:PT1H
X-Robots-Tag:noindex
X-PUBLISHED-TTL:PT1H
BEGIN:VTIMEZONE
TZID:Pacific/Honolulu
BEGIN:STANDARD
TZOFFSETFROM:-1000
TZOFFSETTO:-1000
TZNAME:HST
DTSTART:20220101T000000
END:STANDARD
END:VTIMEZONE
BEGIN:VEVENT
DTSTART;TZID=Pacific/Honolulu:20230601T180000
DTEND;TZID=Pacific/Honolulu:20230601T200000
DTSTAMP:20260421T080031
CREATED:20230503T061508Z
LAST-MODIFIED:20230503T061647Z
UID:10000073-1685642400-1685649600@paintpaina.com
SUMMARY:Paint Pāʻina & The Residence Inn by Marriott Kapolei Oahu - Drinks by the Pool
DESCRIPTION:Join us outdoors in between the fireplace and the pool at the Residence Inn by Marriott in Kapolei.  Our Hawaiian kine paint party happens here every Tuesday and Thursday night from 6:00 pm to 8:00 pm No experience necessary! We bring all the art supplies\, and Paint Paina artist to lead you through your own personal painted expression on canvas! The Marriott offers a full bar and a one drink minimum is required. non-alcoholic drinks are available. Grab some eats from the local food trucks that come to the curb for a fun filled two hours of painting and sipping. \nE Komo Mai! All are welcome! This event is not just for the hotel guests but open to the public as well. This is a 16 year and older event\, however keiki are welcome to join in with a participating adult. Food and drinks not included in the ticket price! No outside food or drinks allowed. \n\n\nTo book big groups or if you have any questions you can e-mail us at paintpaina@gmail.com\n\nJoin us outdoors by the pool for a Paint Pāʻina\, Paint Party
URL:https://paintpaina.com/event/paint-pa%ca%bbina-the-residence-inn-by-marriott-kapolei-oahu-drinks-by-the-pool/
LOCATION:The Residence Inn by Marriott\, Kapolei Oahu\, 731 Kunehi Street\, Kapolei\, HI\, 96707\, United States
CATEGORIES:MARRIOTT
ATTACH;FMTTYPE=image/jpeg:https://paintpaina.com/wp-content/uploads/2023/02/Drinks-by-the-Pool-scaled.jpg
ORGANIZER;CN="Alicia Malia  Esche":MAILTO:paintpaina@gmail.com
END:VEVENT
BEGIN:VEVENT
DTSTART;TZID=Pacific/Honolulu:20230606T180000
DTEND;TZID=Pacific/Honolulu:20230606T200000
DTSTAMP:20260421T080031
CREATED:20230503T053913Z
LAST-MODIFIED:20230503T054351Z
UID:10000069-1686074400-1686081600@paintpaina.com
SUMMARY:Paint Pāʻina & The Residence Inn by Marriott Kapolei Oahu - Life's a Beach
DESCRIPTION:Join us outdoors in between the fireplace and the pool at the Residence Inn by Marriott in Kapolei.  Our Hawaiian kine paint party happens here every Tuesday and Thursday night from 6:00 pm to 8:00 pm No experience necessary! We bring all the art supplies\, and Paint Paina artist to lead you through your own personal painted expression on canvas! The Marriott offers a full bar and a one drink minimum is required. non-alcoholic drinks are available. Grab some eats from the local food trucks that come to the curb for a fun filled two hours of painting and sipping. \nE Komo Mai! All are welcome! This event is not just for the hotel guests but open to the public as well. This is a 16 year and older event\, however keiki are welcome to join in with a participating adult. Food and drinks not included in the ticket price! No outside food or drinks allowed. \n\n\nTo book big groups or if you have any questions you can e-mail us at paintpaina@gmail.com\n\nJoin us outdoors by the pool for a Paint Pāʻina\, Paint Party
URL:https://paintpaina.com/event/paint-pa%ca%bbina-the-residence-inn-by-marriott-kapolei-oahu-lifes-a-beach/
LOCATION:The Residence Inn by Marriott\, Kapolei Oahu\, 731 Kunehi Street\, Kapolei\, HI\, 96707\, United States
CATEGORIES:MARRIOTT
ATTACH;FMTTYPE=image/jpeg:https://paintpaina.com/wp-content/uploads/2023/05/Lifebeach.jpg
ORGANIZER;CN="Alicia Malia  Esche":MAILTO:paintpaina@gmail.com
END:VEVENT
BEGIN:VEVENT
DTSTART;TZID=Pacific/Honolulu:20230608T180000
DTEND;TZID=Pacific/Honolulu:20230608T200000
DTSTAMP:20260421T080031
CREATED:20230503T063603Z
LAST-MODIFIED:20230503T063844Z
UID:10000074-1686247200-1686254400@paintpaina.com
SUMMARY:Paint Pāʻina & The Residence Inn by Marriott Kapolei Oahu - West Side
DESCRIPTION:Join us outdoors in between the fireplace and the pool at the Residence Inn by Marriott in Kapolei.  Our Hawaiian kine paint party happens here every Tuesday and Thursday night from 6:00 pm to 8:00 pm No experience necessary! We bring all the art supplies\, and Paint Paina artist to lead you through your own personal painted expression on canvas! The Marriott offers a full bar and a one drink minimum is required. non-alcoholic drinks are available. Grab some eats from the local food trucks that come to the curb for a fun filled two hours of painting and sipping. \nE Komo Mai! All are welcome! This event is not just for the hotel guests but open to the public as well. This is a 16 year and older event\, however keiki are welcome to join in with a participating adult. Food and drinks not included in the ticket price! No outside food or drinks allowed. \n\n\nTo book big groups or if you have any questions you can e-mail us at paintpaina@gmail.com\n\nJoin us outdoors by the pool for a Paint Pāʻina\, Paint Party
URL:https://paintpaina.com/event/paint-pa%ca%bbina-the-residence-inn-by-marriott-kapolei-oahu-west-side/
LOCATION:The Residence Inn by Marriott\, Kapolei Oahu\, 731 Kunehi Street\, Kapolei\, HI\, 96707\, United States
CATEGORIES:MARRIOTT
ATTACH;FMTTYPE=image/jpeg:https://paintpaina.com/wp-content/uploads/2023/05/West-Side-scaled.jpg
ORGANIZER;CN="Alicia Malia  Esche":MAILTO:paintpaina@gmail.com
END:VEVENT
BEGIN:VEVENT
DTSTART;TZID=Pacific/Honolulu:20230613T180000
DTEND;TZID=Pacific/Honolulu:20230613T200000
DTSTAMP:20260421T080031
CREATED:20230503T055122Z
LAST-MODIFIED:20230503T060142Z
UID:10000070-1686679200-1686686400@paintpaina.com
SUMMARY:Paint Pāʻina & The Residence Inn by Marriott Kapolei Oahu - Let's be Mermaids
DESCRIPTION:Join us outdoors in between the fireplace and the pool at the Residence Inn by Marriott in Kapolei.  Our Hawaiian kine paint party happens here every Tuesday and Thursday night from 6:00 pm to 8:00 pm No experience necessary! We bring all the art supplies\, and Paint Paina artist to lead you through your own personal painted expression on canvas! The Marriott offers a full bar and a one drink minimum is required. non-alcoholic drinks are available. Grab some eats from the local food trucks that come to the curb for a fun filled two hours of painting and sipping. \nE Komo Mai! All are welcome! This event is not just for the hotel guests but open to the public as well. This is a 16 year and older event\, however keiki are welcome to join in with a participating adult. Food and drinks not included in the ticket price! No outside food or drinks allowed. \n\n\nTo book big groups or if you have any questions you can e-mail us at paintpaina@gmail.com\n\nJoin us outdoors by the pool for a Paint Pāʻina\, Paint Party
URL:https://paintpaina.com/event/paint-pa%ca%bbina-the-residence-inn-by-marriott-kapolei-oahu-lets-be-mermaids/
LOCATION:The Residence Inn by Marriott\, Kapolei Oahu\, 731 Kunehi Street\, Kapolei\, HI\, 96707\, United States
CATEGORIES:MARRIOTT
ATTACH;FMTTYPE=image/jpeg:https://paintpaina.com/wp-content/uploads/2023/02/valentines-mermiad-scaled.jpg
ORGANIZER;CN="Alicia Malia  Esche":MAILTO:paintpaina@gmail.com
END:VEVENT
BEGIN:VEVENT
DTSTART;TZID=Pacific/Honolulu:20230615T180000
DTEND;TZID=Pacific/Honolulu:20230615T200000
DTSTAMP:20260421T080031
CREATED:20230503T065608Z
LAST-MODIFIED:20230507T194123Z
UID:10000075-1686852000-1686859200@paintpaina.com
SUMMARY:Paint Pāʻina & The Residence Inn by Marriott Kapolei Oahu - Riding the Currents
DESCRIPTION:Join us outdoors in between the fireplace and the pool at the Residence Inn by Marriott in Kapolei.  Our Hawaiian kine paint party happens here every Tuesday and Thursday night from 6:00 pm to 8:00 pm No experience necessary! We bring all the art supplies\, and Paint Paina artist to lead you through your own personal painted expression on canvas! The Marriott offers a full bar and a one drink minimum is required. non-alcoholic drinks are available. Grab some eats from the local food trucks that come to the curb for a fun filled two hours of painting and sipping. \nE Komo Mai! All are welcome! This event is not just for the hotel guests but open to the public as well. This is a 16 year and older event\, however keiki are welcome to join in with a participating adult. Food and drinks not included in the ticket price! No outside food or drinks allowed. \n\n\nTo book big groups or if you have any questions you can e-mail us at paintpaina@gmail.com\n\nJoin us outdoors by the pool for a Paint Pāʻina\, Paint Party
URL:https://paintpaina.com/event/paint-pa%ca%bbina-the-residence-inn-by-marriott-kapolei-oahu-riding-the-currents-2/
LOCATION:The Residence Inn by Marriott\, Kapolei Oahu\, 731 Kunehi Street\, Kapolei\, HI\, 96707\, United States
CATEGORIES:MARRIOTT
ATTACH;FMTTYPE=image/jpeg:https://paintpaina.com/wp-content/uploads/2023/02/Riding-the-Currents.jpg
ORGANIZER;CN="Alicia Malia  Esche":MAILTO:paintpaina@gmail.com
END:VEVENT
BEGIN:VEVENT
DTSTART;TZID=Pacific/Honolulu:20230620T180000
DTEND;TZID=Pacific/Honolulu:20230620T200000
DTSTAMP:20260421T080031
CREATED:20230503T055306Z
LAST-MODIFIED:20230509T072948Z
UID:10000071-1687284000-1687291200@paintpaina.com
SUMMARY:Paint Pāʻina & The Residence Inn by Marriott Kapolei Oahu - Yokahama Bay
DESCRIPTION:Join us outdoors in between the fireplace and the pool at the Residence Inn by Marriott in Kapolei.  Our Hawaiian kine paint party happens here every Tuesday and Thursday night from 6:00 pm to 8:00 pm No experience necessary! We bring all the art supplies\, and Paint Paina artist to lead you through your own personal painted expression on canvas! The Marriott offers a full bar and a one drink minimum is required. non-alcoholic drinks are available. Grab some eats from the local food trucks that come to the curb for a fun filled two hours of painting and sipping. \nE Komo Mai! All are welcome! This event is not just for the hotel guests but open to the public as well. This is a 16 year and older event\, however keiki are welcome to join in with a participating adult. Food and drinks not included in the ticket price! No outside food or drinks allowed. \n\n\nTo book big groups or if you have any questions you can e-mail us at paintpaina@gmail.com\n\nJoin us outdoors by the pool for a Paint Pāʻina\, Paint Party
URL:https://paintpaina.com/event/paint-pa%ca%bbina-the-residence-inn-by-marriott-kapolei-oahu-yokahama-bay/
LOCATION:The Residence Inn by Marriott\, Kapolei Oahu\, 731 Kunehi Street\, Kapolei\, HI\, 96707\, United States
CATEGORIES:MARRIOTT
ATTACH;FMTTYPE=image/jpeg:https://paintpaina.com/wp-content/uploads/2023/02/turtle-bay-palm-scaled.jpg
ORGANIZER;CN="Alicia Malia  Esche":MAILTO:paintpaina@gmail.com
END:VEVENT
BEGIN:VEVENT
DTSTART;TZID=Pacific/Honolulu:20230622T180000
DTEND;TZID=Pacific/Honolulu:20230622T200000
DTSTAMP:20260421T080031
CREATED:20230503T071214Z
LAST-MODIFIED:20230507T193619Z
UID:10000076-1687456800-1687464000@paintpaina.com
SUMMARY:Paint Pāʻina & The Residence Inn by Marriott Kapolei Oahu - Malama na Honu
DESCRIPTION:Join us outdoors in between the fireplace and the pool at the Residence Inn by Marriott in Kapolei.  Our Hawaiian kine paint party happens here every Tuesday and Thursday night from 6:00 pm to 8:00 pm No experience necessary! We bring all the art supplies\, and Paint Paina artist to lead you through your own personal painted expression on canvas! The Marriott offers a full bar and a one drink minimum is required. non-alcoholic drinks are available. Grab some eats from the local food trucks that come to the curb for a fun filled two hours of painting and sipping. \nE Komo Mai! All are welcome! This event is not just for the hotel guests but open to the public as well. This is a 16 year and older event\, however keiki are welcome to join in with a participating adult. Food and drinks not included in the ticket price! No outside food or drinks allowed. \n\n\nTo book big groups or if you have any questions you can e-mail us at paintpaina@gmail.com\n\nJoin us outdoors by the pool for a Paint Pāʻina\, Paint Party
URL:https://paintpaina.com/event/paint-pa%ca%bbina-the-residence-inn-by-marriott-kapolei-oahu-malama-na-honu/
LOCATION:The Residence Inn by Marriott\, Kapolei Oahu\, 731 Kunehi Street\, Kapolei\, HI\, 96707\, United States
CATEGORIES:MARRIOTT
ATTACH;FMTTYPE=image/jpeg:https://paintpaina.com/wp-content/uploads/2023/03/Malama-na-Honu-scaled.jpg
ORGANIZER;CN="Alicia Malia  Esche":MAILTO:paintpaina@gmail.com
END:VEVENT
BEGIN:VEVENT
DTSTART;TZID=Pacific/Honolulu:20230627T180000
DTEND;TZID=Pacific/Honolulu:20230627T200000
DTSTAMP:20260421T080031
CREATED:20230503T060822Z
LAST-MODIFIED:20230503T061006Z
UID:10000072-1687888800-1687896000@paintpaina.com
SUMMARY:Paint Pāʻina & The Residence Inn by Marriott Kapolei Oahu - Ocean Garden
DESCRIPTION:Join us outdoors in between the fireplace and the pool at the Residence Inn by Marriott in Kapolei.  Our Hawaiian kine paint party happens here every Tuesday and Thursday night from 6:00 pm to 8:00 pm No experience necessary! We bring all the art supplies\, and Paint Paina artist to lead you through your own personal painted expression on canvas! The Marriott offers a full bar and a one drink minimum is required. non-alcoholic drinks are available. Grab some eats from the local food trucks that come to the curb for a fun filled two hours of painting and sipping. \nE Komo Mai! All are welcome! This event is not just for the hotel guests but open to the public as well. This is a 16 year and older event\, however keiki are welcome to join in with a participating adult. Food and drinks not included in the ticket price! No outside food or drinks allowed. \n\n\nTo book big groups or if you have any questions you can e-mail us at paintpaina@gmail.com\n\nJoin us outdoors by the pool for a Paint Pāʻina\, Paint Party
URL:https://paintpaina.com/event/paint-pa%ca%bbina-the-residence-inn-by-marriott-kapolei-oahu-ocean-garden/
LOCATION:The Residence Inn by Marriott\, Kapolei Oahu\, 731 Kunehi Street\, Kapolei\, HI\, 96707\, United States
CATEGORIES:MARRIOTT
ATTACH;FMTTYPE=image/jpeg:https://paintpaina.com/wp-content/uploads/2023/02/nemo-scaled.jpg
ORGANIZER;CN="Alicia Malia  Esche":MAILTO:paintpaina@gmail.com
END:VEVENT
BEGIN:VEVENT
DTSTART;TZID=Pacific/Honolulu:20230629T180000
DTEND;TZID=Pacific/Honolulu:20230629T200000
DTSTAMP:20260421T080031
CREATED:20230503T075438Z
LAST-MODIFIED:20231030T014250Z
UID:10000077-1688061600-1688068800@paintpaina.com
SUMMARY:Paint Pāʻina & The Residence Inn by Marriott Kapolei Oahu - Fire Works SOLD OUT!
DESCRIPTION:Join us outdoors in between the fireplace and the pool at the Residence Inn by Marriott in Kapolei.  Our Hawaiian kine paint party happens here every Tuesday and Thursday night from 6:00 pm to 8:00 pm No experience necessary! We bring all the art supplies\, and Paint Paina artist to lead you through your own personal painted expression on canvas! The Marriott offers a full bar and a one drink minimum is required. non-alcoholic drinks are available. Grab some eats from the local food trucks that come to the curb for a fun filled two hours of painting and sipping.\n\nE Komo Mai! All are welcome! This event is not just for the hotel guests but open to the public as well. This is a 16 year and older event\, however keiki are welcome to join in with a participating adult. Food and drinks not included in the ticket price! No outside food or drinks allowed.\n\n\nTo book big groups or if you have any questions you can e-mail us at paintpaina@gmail.com\n\n\nJoin us outdoors by the pool for a Paint Pāʻina\, Paint Party
URL:https://paintpaina.com/event/paint-pa%ca%bbina-the-residence-inn-by-marriott-kapolei-oahu-fire-works/
LOCATION:The Residence Inn by Marriott\, Kapolei Oahu\, 731 Kunehi Street\, Kapolei\, HI\, 96707\, United States
CATEGORIES:MARRIOTT
ATTACH;FMTTYPE=image/jpeg:https://paintpaina.com/wp-content/uploads/2023/05/fireworks-scaled.jpg
ORGANIZER;CN="Alicia Malia  Esche":MAILTO:paintpaina@gmail.com
END:VEVENT
END:VCALENDAR