BEGIN:VCALENDAR
VERSION:2.0
PRODID:-//PAINT PAINA - ECPv6.15.20//NONSGML v1.0//EN
CALSCALE:GREGORIAN
METHOD:PUBLISH
X-WR-CALNAME:PAINT PAINA
X-ORIGINAL-URL:https://paintpaina.com
X-WR-CALDESC:Events for PAINT PAINA
REFRESH-INTERVAL;VALUE=DURATION:PT1H
X-Robots-Tag:noindex
X-PUBLISHED-TTL:PT1H
BEGIN:VTIMEZONE
TZID:Pacific/Honolulu
BEGIN:STANDARD
TZOFFSETFROM:-1000
TZOFFSETTO:-1000
TZNAME:HST
DTSTART:20230101T000000
END:STANDARD
END:VTIMEZONE
BEGIN:VEVENT
DTSTART;TZID=Pacific/Honolulu:20240402T180000
DTEND;TZID=Pacific/Honolulu:20240402T200000
DTSTAMP:20260421T144819
CREATED:20240226T081451Z
LAST-MODIFIED:20240401T200409Z
UID:10000377-1712080800-1712088000@paintpaina.com
SUMMARY:Signature Painting W/ Paint Pāʻina & The Twin Fin Hotel\, Waikiki Oceanfront - Paint and Sip 🎨 BOOK NOW🖌or 📞 808 781-2218 🍷
DESCRIPTION:Join us for a paint Party on the 21st floor out on the balcony in the exclusive Coconut Club at the TWIN FIN HOTEL.  Be the Artist and Paint Pāʻina will lead you through a signature painting and In just two hours you will have your personal Hawaiian masterpiece. Come early and enjoy the views\, Diamond Head above and Waikiki Beach below. \nFREE Validated parking provided by TWIN FIN Hotel\nThis is a BYOB and Bring your own pupus to event. Ticket price of $38.00 includes canvas\, supplies and artist instruction.  \nCall or text 808 781-2218 for any questions\, or large groups.  \nChance ʻem\, Be the Artist! Paint Paina \n \n\nPaint Pāʻina\, Paint Party
URL:https://paintpaina.com/event/signature-painting-w-paint-pa%ca%bbina-the-twin-fin-hotel-waikiki-oceanfront-paint-and-sip-%f0%9f%8e%a8-book-now%f0%9f%96%8cor-%f0%9f%93%9e-808-781-2218-%f0%9f%8d%b7/
LOCATION:The Twin Fin Hotel\, Waikiki Oceanfront\, 2570 Kalakaua Ave\, Honolulu\, HI\, 96815\, United States
CATEGORIES:TWIN FIN WAIKIKI
ATTACH;FMTTYPE=image/jpeg:https://paintpaina.com/wp-content/uploads/2023/06/IMG_5912.jpg
ORGANIZER;CN="Alicia Malia  Esche":MAILTO:paintpaina@gmail.com
END:VEVENT
BEGIN:VEVENT
DTSTART;TZID=Pacific/Honolulu:20240403T180000
DTEND;TZID=Pacific/Honolulu:20240403T200000
DTSTAMP:20260421T144819
CREATED:20240317T011254Z
LAST-MODIFIED:20240324T032147Z
UID:10000384-1712167200-1712174400@paintpaina.com
SUMMARY:"Sunset Surf" w/Paint Pāʻina & The Residence Inn by Marriott Kapolei Oahu 🖌 Paint Party 🎨 BOOK NOW  or 📞 808 781-2218🍷
DESCRIPTION:Join us outdoors in between the fireplace and the pool at the Residence Inn by Marriott in Kapolei.  Our Hawaiian kine paint party happens here every Wednesday and Thursday night from 6:00 pm to 8:00 pm No experience necessary! We bring all the art supplies\, and Paint Paina artist to lead you through your own personal painted expression on canvas! \nTicket price just $38.00\, The Inn Bar offers a full bar and a one drink minimum is required. non-alcoholic drinks are available. Grab some eats from the local food trucks that come to the curb for a fun filled two hours of painting and sipping. \nE Komo Mai! All are welcome! This event is not just for the hotel guests but open to the public as well. This is a 16 year and older event\, however keiki are welcome to join in with a participating adult. Food and drinks not included in the ticket price! No outside food or drinks allowed. \n \n\nTo book big groups or if you have any questions you can e-mail us at paintpaina@gmail.com\n\nJoin us outdoors by the pool for a Paint Pāʻina\, Paint Party
URL:https://paintpaina.com/event/sunset-surf-w-paint-pa%ca%bbina-the-residence-inn-by-marriott-kapolei-oahu-%f0%9f%96%8c-paint-party-%f0%9f%8e%a8-book-now-or-%f0%9f%93%9e-808-781-2218%f0%9f%8d%b7/
LOCATION:The Residence Inn by Marriott\, Kapolei Oahu\, 731 Kunehi Street\, Kapolei\, HI\, 96707\, United States
CATEGORIES:MARRIOTT
ATTACH;FMTTYPE=image/jpeg:https://paintpaina.com/wp-content/uploads/2023/02/Sunset-Surf-scaled.jpg
ORGANIZER;CN="Alicia Malia  Esche":MAILTO:paintpaina@gmail.com
END:VEVENT
BEGIN:VEVENT
DTSTART;TZID=Pacific/Honolulu:20240404T180000
DTEND;TZID=Pacific/Honolulu:20240404T200000
DTSTAMP:20260421T144819
CREATED:20240317T011800Z
LAST-MODIFIED:20240324T032344Z
UID:10000386-1712253600-1712260800@paintpaina.com
SUMMARY:"Love Shack" w/ Paint Pāʻina & The Residence Inn by Marriott Kapolei Oahu 🖌 Paint Party 🎨 BOOK NOW  or 📞 808 781-2218🍷
DESCRIPTION:Join us outdoors in between the fireplace and the pool at the Residence Inn by Marriott in Kapolei.  Our Hawaiian kine paint party happens here every Wednesday and Thursday night from 6:00 pm to 8:00 pm No experience necessary! We bring all the art supplies\, and Paint Paina artist to lead you through your own personal painted expression on canvas! \nTicket price just $38.00\, The Inn Bar offers a full bar and a one drink minimum is required. non-alcoholic drinks are available. Grab some eats from the local food trucks that come to the curb for a fun filled two hours of painting and sipping. \nE Komo Mai! All are welcome! This event is not just for the hotel guests but open to the public as well. This is a 16 year and older event\, however keiki are welcome to join in with a participating adult. Food and drinks not included in the ticket price! No outside food or drinks allowed. \n \n\nTo book big groups or if you have any questions you can e-mail us at paintpaina@gmail.com\n\nJoin us outdoors by the pool for a Paint Pāʻina\, Paint Party
URL:https://paintpaina.com/event/love-shack-w-paint-pa%ca%bbina-the-residence-inn-by-marriott-kapolei-oahu-%f0%9f%96%8c-paint-party-%f0%9f%8e%a8-book-now-or-%f0%9f%93%9e-808-781-2218%f0%9f%8d%b7/
LOCATION:The Residence Inn by Marriott\, Kapolei Oahu\, 731 Kunehi Street\, Kapolei\, HI\, 96707\, United States
CATEGORIES:MARRIOTT
ORGANIZER;CN="Alicia Malia  Esche":MAILTO:paintpaina@gmail.com
END:VEVENT
BEGIN:VEVENT
DTSTART;TZID=Pacific/Honolulu:20240410T180000
DTEND;TZID=Pacific/Honolulu:20240410T200000
DTSTAMP:20260421T144819
CREATED:20240317T012004Z
LAST-MODIFIED:20240407T203338Z
UID:10000387-1712772000-1712779200@paintpaina.com
SUMMARY:"Lei Poʻo" w/Paint Pāʻina & The Residence Inn by Marriott Kapolei Oahu 🖌 Paint Party 🎨 BOOK NOW  or 📞 808 781-2218🍷
DESCRIPTION:Join us outdoors in between the fireplace and the pool at the Residence Inn by Marriott in Kapolei.  Our Hawaiian kine paint party happens here every Wednesday and Thursday night from 6:00 pm to 8:00 pm No experience necessary! We bring all the art supplies\, and Paint Paina artist to lead you through your own personal painted expression on canvas! \nTicket price just $38.00\, The Inn Bar offers a full bar and a one drink minimum is required. non-alcoholic drinks are available. Grab some eats from the local food trucks that come to the curb for a fun filled two hours of painting and sipping. \nE Komo Mai! All are welcome! This event is not just for the hotel guests but open to the public as well. This is a 16 year and older event\, however keiki are welcome to join in with a participating adult. Food and drinks not included in the ticket price! No outside food or drinks allowed. \n \n\nTo book big groups or if you have any questions you can e-mail us at paintpaina@gmail.com\n\nJoin us outdoors by the pool for a Paint Pāʻina\, Paint Party
URL:https://paintpaina.com/event/sunset-surf-w-paint-pa%ca%bbina-the-residence-inn-by-marriott-kapolei-oahu-%f0%9f%96%8c-paint-party-%f0%9f%8e%a8-book-now-or-%f0%9f%93%9e-808-781-2218%f0%9f%8d%b7-2/
LOCATION:The Residence Inn by Marriott\, Kapolei Oahu\, 731 Kunehi Street\, Kapolei\, HI\, 96707\, United States
CATEGORIES:MARRIOTT
ATTACH;FMTTYPE=image/png:https://paintpaina.com/wp-content/uploads/2023/02/Haku-girl.png
ORGANIZER;CN="Alicia Malia  Esche":MAILTO:paintpaina@gmail.com
END:VEVENT
BEGIN:VEVENT
DTSTART;TZID=Pacific/Honolulu:20240410T180000
DTEND;TZID=Pacific/Honolulu:20240410T200000
DTSTAMP:20260421T144819
CREATED:20250408T214225Z
LAST-MODIFIED:20250408T214225Z
UID:10001474-1712772000-1712779200@paintpaina.com
SUMMARY:Paint Pāʻina & TURTLE BAY RESORT - Paint with our Artist
DESCRIPTION:Want to Paint this with Paint Pāʻina? Join us at one of our venues for a night of fun and paint! Chance ’em\, Be the Artist \nEvery Wednesday and Friday\, let the natural surroundings of the North Shore inspire your creativity. \n\nEverything you need to create your own artwork and bring a piece of paradise home.\nRelaxing and social atmosphere led by our talented instructor.\n$115 per person\n\nFor more information\, Visit The Guidepost at Turtle Bay Resort \nE Komo Mai! All are welcome! No outside food or drinks allowed. \nTo book big groups or if you have any questions you can e-mail us at paintpaina@gmail.com \n 
URL:https://paintpaina.com/event/paint-pa%ca%bbina-turtle-bay-resort-paint-with-our-artist-44/
LOCATION:Ritz-Carlton Oʻahu\, Turtle Bay\, 57-091 Kamehameha Hwy\, Kahuku\, HI\, 96712\, United States
CATEGORIES:Turtle Bay Resort
ATTACH;FMTTYPE=image/jpeg:https://paintpaina.com/wp-content/uploads/2023/03/IMG_1407-1-scaled.jpg
ORGANIZER;CN="Alicia Malia  Esche":MAILTO:paintpaina@gmail.com
END:VEVENT
BEGIN:VEVENT
DTSTART;TZID=Pacific/Honolulu:20240411T180000
DTEND;TZID=Pacific/Honolulu:20240411T200000
DTSTAMP:20260421T144819
CREATED:20240317T012150Z
LAST-MODIFIED:20240407T203308Z
UID:10000388-1712858400-1712865600@paintpaina.com
SUMMARY:"Waimea\, reddish water" Paint Pāʻina & The Residence Inn by Marriott Kapolei Oahu 🖌 Paint Party 🎨 BOOK NOW  or 📞 808 781-2218🍷
DESCRIPTION:Join us outdoors in between the fireplace and the pool at the Residence Inn by Marriott in Kapolei.  Our Hawaiian kine paint party happens here every Wednesday and Thursday night from 6:00 pm to 8:00 pm No experience necessary! We bring all the art supplies\, and Paint Paina artist to lead you through your own personal painted expression on canvas! \nTicket price just $38.00\, The Inn Bar offers a full bar and a one drink minimum is required. non-alcoholic drinks are available. Grab some eats from the local food trucks that come to the curb for a fun filled two hours of painting and sipping. \nE Komo Mai! All are welcome! This event is not just for the hotel guests but open to the public as well. This is a 16 year and older event\, however keiki are welcome to join in with a participating adult. Food and drinks not included in the ticket price! No outside food or drinks allowed. \n \n\nTo book big groups or if you have any questions you can e-mail us at paintpaina@gmail.com\n\nJoin us outdoors by the pool for a Paint Pāʻina\, Paint Party
URL:https://paintpaina.com/event/mokoli%ca%bbi-paint-pa%ca%bbina-the-residence-inn-by-marriott-kapolei-oahu-%f0%9f%96%8c-paint-party-%f0%9f%8e%a8-book-now-or-%f0%9f%93%9e-808-781-2218%f0%9f%8d%b7/
LOCATION:The Residence Inn by Marriott\, Kapolei Oahu\, 731 Kunehi Street\, Kapolei\, HI\, 96707\, United States
CATEGORIES:MARRIOTT
ATTACH;FMTTYPE=image/jpeg:https://paintpaina.com/wp-content/uploads/2023/02/Monicas-Waimea-2-scaled.jpg
ORGANIZER;CN="Alicia Malia  Esche":MAILTO:paintpaina@gmail.com
END:VEVENT
BEGIN:VEVENT
DTSTART;TZID=Pacific/Honolulu:20240414T123000
DTEND;TZID=Pacific/Honolulu:20240414T143000
DTSTAMP:20260421T144819
CREATED:20240317T014511Z
LAST-MODIFIED:20240402T175156Z
UID:10000467-1713097800-1713105000@paintpaina.com
SUMMARY:"Mokoliʻi" w/ Paint Pāʻina & Ko'olau Distillery - Paint and Sip 🎨 BOOK NOW 🖌  or 📞 808 781-2218 🍷
DESCRIPTION:Join us at the Ko’olau distillery in Kapaa Quarry\, Kailua Hawaii. A veteran owned business\, bottling the finest made in Hawaii delicious craft spirits! Make a day of it by taking the distillery tour\, enjoy live music & delicious food from a local featured food truck.Check out the website to see the schedule of events. \nEvery other Sunday from 12:30 to 2:30 we will be having a Paint Pāʻina\, that means Paint PARTY Hawaiian style! Enjoy two hours of painting along with a Paint Paina artist through one of our custom Hawaiian scenic paintings\, or Koʻolau distillery signature label paintings.  “No Worry” if you have not ever painted\, Paint Pāʻina will bring everything you need to go home with a personal island creation made by YOU! Ticket price is 38.00 and a one drink minimum from the premium menu including a choice of the flight: a tasting of four Ko’olau distillery spirits.  \nE Komo Mai! All are welcome! No outside food or drinks allowed. \nTo book big groups or if you have any questions about this event or any of our other events  you can e-mail us at paintpaina@gmail.com
URL:https://paintpaina.com/event/signature-painting-w-paint-pa%ca%bbina-koolau-distillery-paint-and-sip-%f0%9f%8e%a8-book-now-%f0%9f%96%8c-or-%f0%9f%93%9e-808-781-2218-%f0%9f%8d%b7/
LOCATION:Ko’olau  Distillery\, 905 Kapa'a Quarry Road\, Suite 14 Floor 50\, Kailua\, HI\, 96735\, United States
CATEGORIES:Ko'olau Distillery
ATTACH;FMTTYPE=image/jpeg:https://paintpaina.com/wp-content/uploads/2023/02/Mokolii-1-scaled.jpg
ORGANIZER;CN="Alicia Malia  Esche":MAILTO:paintpaina@gmail.com
END:VEVENT
BEGIN:VEVENT
DTSTART;TZID=Pacific/Honolulu:20240416T190000
DTEND;TZID=Pacific/Honolulu:20240416T210000
DTSTAMP:20260421T144819
CREATED:20240402T015655Z
LAST-MODIFIED:20240416T225357Z
UID:10000482-1713294000-1713301200@paintpaina.com
SUMMARY:HONU w/ Paint Pāʻina & The Shack in Mililani - Paint and Sip 🎨 TO BOOK THIS EVENT 🖌 Call or text 808 781-2218 🍷
DESCRIPTION:Join us at The Shack in Mililani on Tuesday night!  Our Hawaiian kine paint party happens here from 7:00 pm to 9:00 pm No experience necessary! We bring all the art supplies\, and Paint Paina artist to lead you through your own personal painted expression on canvas! \n\n\n\nTickets are just $38.00 per person\, The Shack offers a full bar and a one drink minimum is required. non-alcoholic drinks are available. Come early and sample the menu and stay for a fun filled two hours of painting and sipping. \n\n\n\nE Komo Mai! All are welcome! This is a 16 year and older event\, however keiki are welcome to join in with a participating adult. Food and drinks not included in the ticket price! No outside food or drinks allowed. \n\n\n\nTo book big groups or if you have any questions you can e-mail us at paintpaina@gmail.com \n\n\n\n\n\n\n\n\n\n\n\n\n\n\n\n\n\n\n 
URL:https://paintpaina.com/event/honu-w-paint-pa%ca%bbina-the-shack-in-mililani-paint-and-sip-%f0%9f%8e%a8-to-book-this-event-%f0%9f%96%8c-call-or-text-808-781-2218-%f0%9f%8d%b7/
LOCATION:The Shack in Mililani\, 95-221 Kipapa Dr\, Mililani\, 96789
CATEGORIES:The Shack
ATTACH;FMTTYPE=image/jpeg:https://paintpaina.com/wp-content/uploads/2023/02/Honu.jpg
ORGANIZER;CN="Alicia Malia  Esche":MAILTO:paintpaina@gmail.com
END:VEVENT
BEGIN:VEVENT
DTSTART;TZID=Pacific/Honolulu:20240417T180000
DTEND;TZID=Pacific/Honolulu:20240417T200000
DTSTAMP:20260421T144819
CREATED:20240317T012614Z
LAST-MODIFIED:20240407T203151Z
UID:10000389-1713376800-1713384000@paintpaina.com
SUMMARY:"Whereʻs my Paddle" Paint Pāʻina & The Residence Inn by Marriott Kapolei Oahu 🖌 Paint Party 🎨 BOOK NOW  or 📞 808 781-2218🍷
DESCRIPTION:Join us outdoors in between the fireplace and the pool at the Residence Inn by Marriott in Kapolei.  Our Hawaiian kine paint party happens here every Wednesday and Thursday night from 6:00 pm to 8:00 pm No experience necessary! We bring all the art supplies\, and Paint Paina artist to lead you through your own personal painted expression on canvas! \nTicket price just $38.00\, The Inn Bar offers a full bar and a one drink minimum is required. non-alcoholic drinks are available. Grab some eats from the local food trucks that come to the curb for a fun filled two hours of painting and sipping. \nE Komo Mai! All are welcome! This event is not just for the hotel guests but open to the public as well. This is a 16 year and older event\, however keiki are welcome to join in with a participating adult. Food and drinks not included in the ticket price! No outside food or drinks allowed. \n \n\nTo book big groups or if you have any questions you can e-mail us at paintpaina@gmail.com\n\nJoin us outdoors by the pool for a Paint Pāʻina\, Paint Party
URL:https://paintpaina.com/event/waimea-reddish-water-paint-pa%ca%bbina-the-residence-inn-by-marriott-kapolei-oahu-%f0%9f%96%8c-paint-party-%f0%9f%8e%a8-book-now-or-%f0%9f%93%9e-808-781-2218%f0%9f%8d%b7/
LOCATION:The Residence Inn by Marriott\, Kapolei Oahu\, 731 Kunehi Street\, Kapolei\, HI\, 96707\, United States
CATEGORIES:MARRIOTT
ATTACH;FMTTYPE=image/jpeg:https://paintpaina.com/wp-content/uploads/2023/03/wheres-my-paddleJPG.jpg
ORGANIZER;CN="Alicia Malia  Esche":MAILTO:paintpaina@gmail.com
END:VEVENT
BEGIN:VEVENT
DTSTART;TZID=Pacific/Honolulu:20240417T180000
DTEND;TZID=Pacific/Honolulu:20240417T200000
DTSTAMP:20260421T144819
CREATED:20240402T174144Z
LAST-MODIFIED:20240407T203118Z
UID:10000484-1713376800-1713384000@paintpaina.com
SUMMARY:"Black Sand Beach" w/ Paint Pāʻina & The Pizza Press @ Pearl Highlands 🍕Paint and Pizza Party 🎨 BOOK NOW 🖌or 📞808 781-2218 🍷
DESCRIPTION:Join us at the PIZZA PRESS in Pearl City Highlands\, create your own pizza and painting in the same night! We bring all the supplies and our artist will take you step by step through our custom Paint Pāʻina painting.  Enjoy Pizza and a full bar and In just two hours go home with your personal Hawaiian masterpiece. This is a 16 and older event\, however children are welcome with a participating adult. \nTicket price is just $38.00 per person and a one drink minimum is required (non-alcoholic drinks are available) Ticket price includes canvas\, supplies and artist instruction. \nFor more information or to book a large party e-mail us at Paintpaina@gmail.com. \n \nChance ’em Be The Artist\, Paint Paina \n \nTicket price includes canvas\, supplies and artist instruction. One drink minimum\, non-alcoholic drinks are available.
URL:https://paintpaina.com/event/black-sand-beach-w-paint-pa%ca%bbina-the-pizza-press-pearl-highlands-%f0%9f%8d%95paint-and-pizza-party-%f0%9f%8e%a8-book-now-%f0%9f%96%8cor-%f0%9f%93%9e808-781-2218-%f0%9f%8d%b7/
LOCATION:PIZZA PRESS Pearl Highlands\, 1000 Kamehameha Hwy\, Suite 233\, Pearl City\, Hawaii\, 96782\, United States
CATEGORIES:PIZZA PRESS
ATTACH;FMTTYPE=image/jpeg:https://paintpaina.com/wp-content/uploads/2024/04/Black-Sand-Beach-scaled.jpg
ORGANIZER;CN="Alicia Malia  Esche":MAILTO:paintpaina@gmail.com
END:VEVENT
BEGIN:VEVENT
DTSTART;TZID=Pacific/Honolulu:20240418T180000
DTEND;TZID=Pacific/Honolulu:20240418T200000
DTSTAMP:20260421T144819
CREATED:20240226T081542Z
LAST-MODIFIED:20240324T034556Z
UID:10000378-1713463200-1713470400@paintpaina.com
SUMMARY:Signature Painting W/ Paint Pāʻina & The Twin Fin Hotel\, Waikiki Oceanfront - Paint and Sip 🎨 BOOK NOW🖌or 📞 808 781-2218 🍷
DESCRIPTION:Join us for a paint Party on the 21st floor out on the balcony in the exclusive Coconut Club at the TWIN FIN HOTEL.  Be the Artist and Paint Pāʻina will lead you through a signature painting and In just two hours you will have your personal Hawaiian masterpiece. Come early and enjoy the views\, Diamond Head above and Waikiki Beach below. \nValidated parking provided by TWIN FIN Hotel\nThis is a BYOB and Bring your own pupus to event. Ticket price of $38.00 includes canvas\, supplies and artist instruction.  \nCall or text 808 781-2218 for any questions\, or large groups.  \nChance ʻem\, Be the Artist! Paint Paina \n \n\nPaint Pāʻina\, Paint Party
URL:https://paintpaina.com/event/signature-painting-w-paint-pa%ca%bbina-the-twin-fin-hotel-waikiki-oceanfront-paint-and-sip-%f0%9f%8e%a8-book-now%f0%9f%96%8cor-%f0%9f%93%9e-808-781-2218-%f0%9f%8d%b7-2/
LOCATION:The Twin Fin Hotel\, Waikiki Oceanfront\, 2570 Kalakaua Ave\, Honolulu\, HI\, 96815\, United States
CATEGORIES:TWIN FIN WAIKIKI
ATTACH;FMTTYPE=image/jpeg:https://paintpaina.com/wp-content/uploads/2023/10/TWIN-FIN-View.jpg
ORGANIZER;CN="Alicia Malia  Esche":MAILTO:paintpaina@gmail.com
END:VEVENT
BEGIN:VEVENT
DTSTART;TZID=Pacific/Honolulu:20240418T180000
DTEND;TZID=Pacific/Honolulu:20240418T200000
DTSTAMP:20260421T144819
CREATED:20240317T012827Z
LAST-MODIFIED:20240408T224325Z
UID:10000390-1713463200-1713470400@paintpaina.com
SUMMARY:"Hanalei Dolphins" w/ Paint Pāʻina & The Residence Inn by Marriott Kapolei Oahu 🖌 Paint Party 🎨 BOOK NOW  or 📞 808 781-2218🍷
DESCRIPTION:Join us outdoors in between the fireplace and the pool at the Residence Inn by Marriott in Kapolei.  Our Hawaiian kine paint party happens here every Wednesday and Thursday night from 6:00 pm to 8:00 pm No experience necessary! We bring all the art supplies\, and Paint Paina artist to lead you through your own personal painted expression on canvas! \nTicket price just $38.00\, The Inn Bar offers a full bar and a one drink minimum is required. non-alcoholic drinks are available. Grab some eats from the local food trucks that come to the curb for a fun filled two hours of painting and sipping. \nE Komo Mai! All are welcome! This event is not just for the hotel guests but open to the public as well. This is a 16 year and older event\, however keiki are welcome to join in with a participating adult. Food and drinks not included in the ticket price! No outside food or drinks allowed. \n \n\nTo book big groups or if you have any questions you can e-mail us at paintpaina@gmail.com\n\nJoin us outdoors by the pool for a Paint Pāʻina\, Paint Party
URL:https://paintpaina.com/event/where%ca%bbs-my-paddle-paint-pa%ca%bbina-the-residence-inn-by-marriott-kapolei-oahu-%f0%9f%96%8c-paint-party-%f0%9f%8e%a8-book-now-or-%f0%9f%93%9e-808-781-2218%f0%9f%8d%b7/
LOCATION:The Residence Inn by Marriott\, Kapolei Oahu\, 731 Kunehi Street\, Kapolei\, HI\, 96707\, United States
CATEGORIES:MARRIOTT
ATTACH;FMTTYPE=image/jpeg:https://paintpaina.com/wp-content/uploads/2024/03/Hanalei-Bay-scaled.jpg
ORGANIZER;CN="Alicia Malia  Esche":MAILTO:paintpaina@gmail.com
END:VEVENT
BEGIN:VEVENT
DTSTART;TZID=Pacific/Honolulu:20240424T180000
DTEND;TZID=Pacific/Honolulu:20240424T200000
DTSTAMP:20260421T144819
CREATED:20240317T013033Z
LAST-MODIFIED:20240407T203020Z
UID:10000391-1713981600-1713988800@paintpaina.com
SUMMARY:"Rainbow Beach" w/ Paint Pāʻina & The Residence Inn by Marriott Kapolei Oahu 🖌 Paint Party 🎨 BOOK NOW  or 📞 808 781-2218🍷
DESCRIPTION:Join us outdoors in between the fireplace and the pool at the Residence Inn by Marriott in Kapolei.  Our Hawaiian kine paint party happens here every Wednesday and Thursday night from 6:00 pm to 8:00 pm No experience necessary! We bring all the art supplies\, and Paint Paina artist to lead you through your own personal painted expression on canvas! \nTicket price just $38.00\, The Inn Bar offers a full bar and a one drink minimum is required. non-alcoholic drinks are available. Grab some eats from the local food trucks that come to the curb for a fun filled two hours of painting and sipping. \nE Komo Mai! All are welcome! This event is not just for the hotel guests but open to the public as well. This is a 16 year and older event\, however keiki are welcome to join in with a participating adult. Food and drinks not included in the ticket price! No outside food or drinks allowed. \n \n\nTo book big groups or if you have any questions you can e-mail us at paintpaina@gmail.com\n\nJoin us outdoors by the pool for a Paint Pāʻina\, Paint Party
URL:https://paintpaina.com/event/rainbow-dolphins-w-paint-pa%ca%bbina-the-residence-inn-by-marriott-kapolei-oahu-%f0%9f%96%8c-paint-party-%f0%9f%8e%a8-book-now-or-%f0%9f%93%9e-808-781-2218%f0%9f%8d%b7/
LOCATION:The Residence Inn by Marriott\, Kapolei Oahu\, 731 Kunehi Street\, Kapolei\, HI\, 96707\, United States
CATEGORIES:MARRIOTT
ATTACH;FMTTYPE=image/jpeg:https://paintpaina.com/wp-content/uploads/2023/05/rainbow-beach.jpg
ORGANIZER;CN="Alicia Malia  Esche":MAILTO:paintpaina@gmail.com
END:VEVENT
BEGIN:VEVENT
DTSTART;TZID=Pacific/Honolulu:20240425T180000
DTEND;TZID=Pacific/Honolulu:20240425T200000
DTSTAMP:20260421T144819
CREATED:20240317T013347Z
LAST-MODIFIED:20240422T022700Z
UID:10000392-1714068000-1714075200@paintpaina.com
SUMMARY:"Monstera" w/ Paint Pāʻina & The Residence Inn by Marriott Kapolei Oahu 🖌 Paint Party 🎨 BOOK NOW  or 📞 808 781-2218🍷
DESCRIPTION:Join us outdoors in between the fireplace and the pool at the Residence Inn by Marriott in Kapolei.  Our Hawaiian kine paint party happens here every Wednesday and Thursday night from 6:00 pm to 8:00 pm No experience necessary! We bring all the art supplies\, and Paint Paina artist to lead you through your own personal painted expression on canvas! \nTicket price just $38.00\, The Inn Bar offers a full bar and a one drink minimum is required. non-alcoholic drinks are available. Grab some eats from the local food trucks that come to the curb for a fun filled two hours of painting and sipping. \nE Komo Mai! All are welcome! This event is not just for the hotel guests but open to the public as well. This is a 16 year and older event\, however keiki are welcome to join in with a participating adult. Food and drinks not included in the ticket price! No outside food or drinks allowed. \n \n\nTo book big groups or if you have any questions you can e-mail us at paintpaina@gmail.com\n\nJoin us outdoors by the pool for a Paint Pāʻina\, Paint Party
URL:https://paintpaina.com/event/sunrise-shell-w-paint-pa%ca%bbina-the-residence-inn-by-marriott-kapolei-oahu-%f0%9f%96%8c-paint-party-%f0%9f%8e%a8-book-now-or-%f0%9f%93%9e-808-781-2218%f0%9f%8d%b7/
LOCATION:The Residence Inn by Marriott\, Kapolei Oahu\, 731 Kunehi Street\, Kapolei\, HI\, 96707\, United States
CATEGORIES:MARRIOTT
ATTACH;FMTTYPE=image/jpeg:https://paintpaina.com/wp-content/uploads/2023/02/monstera-leaf-.jpg
ORGANIZER;CN="Alicia Malia  Esche":MAILTO:paintpaina@gmail.com
END:VEVENT
BEGIN:VEVENT
DTSTART;TZID=Pacific/Honolulu:20240428T123000
DTEND;TZID=Pacific/Honolulu:20240428T143000
DTSTAMP:20260421T144819
CREATED:20240317T014853Z
LAST-MODIFIED:20240408T210349Z
UID:10000468-1714307400-1714314600@paintpaina.com
SUMMARY:"Old Pali Road" Paint Pāʻina & Ko'olau Distillery - Paint and Sip 🎨 BOOK NOW 🖌  or 📞 808 781-2218 🍷
DESCRIPTION:Join us at the Ko’olau distillery in Kapaa Quarry\, Kailua Hawaii. A veteran owned business\, bottling the finest made in Hawaii delicious craft spirits! Make a day of it by taking the distillery tour\, enjoy live music & delicious food from a local featured food truck.Check out the website to see the schedule of events. \nEvery other Sunday from 12:30 to 2:30 we will be having a Paint Pāʻina\, that means Paint PARTY Hawaiian style! Enjoy two hours of painting along with a Paint Paina artist through one of our custom Hawaiian scenic paintings\, or Koʻolau distillery signature label paintings.  “No Worry” if you have not ever painted\, Paint Pāʻina will bring everything you need to go home with a personal island creation made by YOU! Ticket price is 38.00 and a one drink minimum from the premium menu including a choice of the flight: a tasting of four Ko’olau distillery spirits.  \nE Komo Mai! All are welcome! No outside food or drinks allowed. \nTo book big groups or if you have any questions about this event or any of our other events  you can e-mail us at paintpaina@gmail.com
URL:https://paintpaina.com/event/mokoli%ca%bbi-w-paint-pa%ca%bbina-koolau-distillery-paint-and-sip-%f0%9f%8e%a8-book-now-%f0%9f%96%8c-or-%f0%9f%93%9e-808-781-2218-%f0%9f%8d%b7/
LOCATION:Ko’olau  Distillery\, 905 Kapa'a Quarry Road\, Suite 14 Floor 50\, Kailua\, HI\, 96735\, United States
CATEGORIES:Ko'olau Distillery
ATTACH;FMTTYPE=image/jpeg:https://paintpaina.com/wp-content/uploads/2024/03/IMG_5774-2-scaled.jpg
ORGANIZER;CN="Alicia Malia  Esche":MAILTO:paintpaina@gmail.com
END:VEVENT
BEGIN:VEVENT
DTSTART;TZID=Pacific/Honolulu:20240430T180000
DTEND;TZID=Pacific/Honolulu:20240430T200000
DTSTAMP:20260421T144819
CREATED:20240226T081619Z
LAST-MODIFIED:20240430T205018Z
UID:10000379-1714500000-1714507200@paintpaina.com
SUMMARY:Signature Painting W/ Paint Pāʻina & The Twin Fin Hotel\, Waikiki Oceanfront - Paint and Sip 🎨 BOOK NOW🖌or 📞 808 781-2218 🍷
DESCRIPTION:Join us for a paint Party on the 21st floor out on the balcony in the exclusive Coconut Club at the TWIN FIN HOTEL.  Be the Artist and Paint Pāʻina will lead you through a signature painting and In just two hours you will have your personal Hawaiian masterpiece. Come early and enjoy the views\, Diamond Head above and Waikiki Beach below. \nValidated parking provided by TWIN FIN Hotel\nThis is a BYOB and Bring your own pupus to event. Ticket price of $38.00 includes canvas\, supplies and artist instruction.  \nCall or text 808 781-2218 for any questions\, or large groups.  \nChance ʻem\, Be the Artist! Paint Paina \n \n\nPaint Pāʻina\, Paint Party
URL:https://paintpaina.com/event/signature-painting-w-paint-pa%ca%bbina-the-twin-fin-hotel-waikiki-oceanfront-paint-and-sip-%f0%9f%8e%a8-book-now%f0%9f%96%8cor-%f0%9f%93%9e-808-781-2218-%f0%9f%8d%b7-3/
LOCATION:The Twin Fin Hotel\, Waikiki Oceanfront\, 2570 Kalakaua Ave\, Honolulu\, HI\, 96815\, United States
CATEGORIES:TWIN FIN WAIKIKI
ATTACH;FMTTYPE=image/jpeg:https://paintpaina.com/wp-content/uploads/2023/10/TWIN-FIN-View.jpg
ORGANIZER;CN="Alicia Malia  Esche":MAILTO:paintpaina@gmail.com
END:VEVENT
END:VCALENDAR