BEGIN:VCALENDAR
VERSION:2.0
PRODID:-//PAINT PAINA - ECPv6.15.20//NONSGML v1.0//EN
CALSCALE:GREGORIAN
METHOD:PUBLISH
X-ORIGINAL-URL:https://paintpaina.com
X-WR-CALDESC:Events for PAINT PAINA
REFRESH-INTERVAL;VALUE=DURATION:PT1H
X-Robots-Tag:noindex
X-PUBLISHED-TTL:PT1H
BEGIN:VTIMEZONE
TZID:Pacific/Honolulu
BEGIN:STANDARD
TZOFFSETFROM:-1000
TZOFFSETTO:-1000
TZNAME:HST
DTSTART:20240101T000000
END:STANDARD
END:VTIMEZONE
BEGIN:VEVENT
DTSTART;TZID=Pacific/Honolulu:20250215T100000
DTEND;TZID=Pacific/Honolulu:20250215T120000
DTSTAMP:20260421T163752
CREATED:20250122T085947Z
LAST-MODIFIED:20250122T085947Z
UID:10001271-1739613600-1739620800@paintpaina.com
SUMMARY:Bernie Moriaz & Monstera @ Mala Nani\, Haleiwa\, Hawaii - Mixed Metal & Painting🎨 TO BOOK THIS EVENT 🖌  Call or text 808 781-2218
DESCRIPTION:Creating with Bernie! Create a small wall piece using sheet metal\, found metal\, cutting\, painting\, riveting\, learn how to work with mixed media. Bernie will provide all materials and guidance you just bring your creative spirit! This class will be held Saturday am in the garden studio in Pupukea. Bring a friend or sign up by yourself. $75.00 per person\, 4 is the limit for this special class. Call or text Bernie 808 589-6242. Orchids and plants from the garden nursery are also available. \n \n\n\n 
URL:https://paintpaina.com/event/bernie-moriaz-monstera-mala-nani-haleiwa-hawaii-mixed-metal-painting%f0%9f%8e%a8-to-book-this-event-%f0%9f%96%8c-call-or-text-808-781-2218-5/
CATEGORIES:Monstera @ Mala Nani
ATTACH;FMTTYPE=image/jpeg:https://paintpaina.com/wp-content/uploads/2023/03/rooster-scaled.jpg
ORGANIZER;CN="Alicia Malia  Esche":MAILTO:paintpaina@gmail.com
END:VEVENT
END:VCALENDAR