BEGIN:VCALENDAR
VERSION:2.0
PRODID:-//PAINT PAINA - ECPv6.15.20//NONSGML v1.0//EN
CALSCALE:GREGORIAN
METHOD:PUBLISH
X-WR-CALNAME:PAINT PAINA
X-ORIGINAL-URL:https://paintpaina.com
X-WR-CALDESC:Events for PAINT PAINA
REFRESH-INTERVAL;VALUE=DURATION:PT1H
X-Robots-Tag:noindex
X-PUBLISHED-TTL:PT1H
BEGIN:VTIMEZONE
TZID:Pacific/Honolulu
BEGIN:STANDARD
TZOFFSETFROM:-1000
TZOFFSETTO:-1000
TZNAME:HST
DTSTART:20220101T000000
END:STANDARD
END:VTIMEZONE
BEGIN:VEVENT
DTSTART;TZID=Pacific/Honolulu:20230405T180000
DTEND;TZID=Pacific/Honolulu:20230405T200000
DTSTAMP:20260419T061330
CREATED:20230312T025550Z
LAST-MODIFIED:20230327T011323Z
UID:10000030-1680717600-1680724800@paintpaina.com
SUMMARY:Paint Pāʻina & The Twin Fin Hotel\, Waikiki Oceanfront - Sunset Mermaid
DESCRIPTION:Join us for a paint Party on the 21st floor out on the balcony in the exclusive Coconut Club at the TWIN FIN HOTEL.  Be the Artist and Paint Pāʻina will lead you through a signature painting and In just two hours you will have your personal Hawaiian masterpiece. Come early and enjoy the views\, Diamond Head above and Waikiki Beach below. \n\nThis is a BYOB and Bring your own pupus too event\, valet parking is validated for this event\, ticket price includes canvas\, supplies and artist instruction.  \nCall or text 808 781-2218 for any questions\, or large groups.  \nChance ʻem\, Be the Artist! Paint Paina \n\n\nPaint Pāʻina\, Paint Party
URL:https://paintpaina.com/event/paint-pa%ca%bbina-the-twin-fin-hotel-waikiki-oceanfront-sunset-mermaid/
LOCATION:The Twin Fin Hotel\, Waikiki Oceanfront\, 2570 Kalakaua Ave\, Honolulu\, HI\, 96815\, United States
CATEGORIES:TWIN FIN WAIKIKI
ATTACH;FMTTYPE=image/jpeg:https://paintpaina.com/wp-content/uploads/2023/02/Sunset-Mermaid-copy-scaled.jpg
ORGANIZER;CN="Alicia Malia  Esche":MAILTO:paintpaina@gmail.com
END:VEVENT
BEGIN:VEVENT
DTSTART;TZID=Pacific/Honolulu:20230419T180000
DTEND;TZID=Pacific/Honolulu:20230419T200000
DTSTAMP:20260419T061330
CREATED:20230320T043816Z
LAST-MODIFIED:20230328T002437Z
UID:10000048-1681927200-1681934400@paintpaina.com
SUMMARY:Paint Pāʻina & The Twin Fin Hotel\, Waikiki Oceanfront - Waikiki Sunset
DESCRIPTION:Join us for a paint Party on the 21st floor out on the balcony in the exclusive Coconut Club at the TWIN FIN HOTEL.  Be the Artist and Paint Pāʻina will lead you through a signature painting and In just two hours you will have your personal Hawaiian masterpiece. Come early and enjoy the views\, Diamond Head above and Waikiki Beach below. \n\nThis is a BYOB and Bring your own pupus too event. Ticket price includes canvas\, supplies and artist instruction.  \nCall or text 808 781-2218 for any questions\, or large groups.  \nChance ʻem\, Be the Artist! Paint Paina \n\n\nPaint Pāʻina\, Paint Party
URL:https://paintpaina.com/event/paint-pa%ca%bbina-the-twin-fin-hotel-waikiki-oceanfront-waikiki-sunset/
LOCATION:The Twin Fin Hotel\, Waikiki Oceanfront\, 2570 Kalakaua Ave\, Honolulu\, HI\, 96815\, United States
CATEGORIES:TWIN FIN WAIKIKI
ATTACH;FMTTYPE=image/jpeg:https://paintpaina.com/wp-content/uploads/2023/02/Waikiki-Sunset-Surf-scaled.jpg
ORGANIZER;CN="Alicia Malia  Esche":MAILTO:paintpaina@gmail.com
END:VEVENT
END:VCALENDAR