BEGIN:VCALENDAR
VERSION:2.0
PRODID:-//PAINT PAINA - ECPv6.15.20//NONSGML v1.0//EN
CALSCALE:GREGORIAN
METHOD:PUBLISH
X-WR-CALNAME:PAINT PAINA
X-ORIGINAL-URL:https://paintpaina.com
X-WR-CALDESC:Events for PAINT PAINA
REFRESH-INTERVAL;VALUE=DURATION:PT1H
X-Robots-Tag:noindex
X-PUBLISHED-TTL:PT1H
BEGIN:VTIMEZONE
TZID:Pacific/Honolulu
BEGIN:STANDARD
TZOFFSETFROM:-1000
TZOFFSETTO:-1000
TZNAME:HST
DTSTART:20220101T000000
END:STANDARD
END:VTIMEZONE
BEGIN:VEVENT
DTSTART;TZID=Pacific/Honolulu:20230523T190000
DTEND;TZID=Pacific/Honolulu:20230523T210000
DTSTAMP:20260423T223536
CREATED:20230424T205113Z
LAST-MODIFIED:20230801T060800Z
UID:10000066-1684868400-1684875600@paintpaina.com
SUMMARY:Paint Pāʻina & The Shack in Mililani - May Day is Lei Day
DESCRIPTION:Join us at The Shack in Mililani on Wednesday night!  Our Hawaiian kine paint party happens here from 7:00 pm to 9:00 pm No experience necessary! We bring all the art supplies\, and Paint Paina artist to lead you through your own personal painted expression on canvas! The Shack offers a full bar and a one drink minimum is required. non-alcoholic drinks are available. Come early and sample the menu and stay for a fun filled two hours of painting and sipping.\n\nE Komo Mai! All are welcome! This is a 16 year and older event\, however keiki are welcome to join in with a participating adult. Food and drinks not included in the ticket price! No outside food or drinks allowed.\n\nTo book big groups or if you have any questions you can e-mail us at paintpaina@gmail.com
URL:https://paintpaina.com/event/paint-pa%ca%bbina-the-shack-in-mililani-may-day-is-lei-day/
LOCATION:The Shack in Mililani\, 95-221 Kipapa Dr\, Mililani\, 96789
CATEGORIES:The Shack
ATTACH;FMTTYPE=image/jpeg:https://paintpaina.com/wp-content/uploads/2023/04/May-Day-is-Lei-Day-in-Hawaii-scaled.jpg
ORGANIZER;CN="Alicia Malia  Esche":MAILTO:paintpaina@gmail.com
END:VEVENT
END:VCALENDAR