BEGIN:VCALENDAR
VERSION:2.0
PRODID:-//PAINT PAINA - ECPv6.15.20//NONSGML v1.0//EN
CALSCALE:GREGORIAN
METHOD:PUBLISH
X-ORIGINAL-URL:https://paintpaina.com
X-WR-CALDESC:Events for PAINT PAINA
REFRESH-INTERVAL;VALUE=DURATION:PT1H
X-Robots-Tag:noindex
X-PUBLISHED-TTL:PT1H
BEGIN:VTIMEZONE
TZID:Pacific/Honolulu
BEGIN:STANDARD
TZOFFSETFROM:-1000
TZOFFSETTO:-1000
TZNAME:HST
DTSTART:20250101T000000
END:STANDARD
END:VTIMEZONE
BEGIN:VEVENT
DTSTART;TZID=Pacific/Honolulu:20260214T090000
DTEND;TZID=Pacific/Honolulu:20260214T100000
DTSTAMP:20260419T172124
CREATED:20260119T191554Z
LAST-MODIFIED:20260119T191557Z
UID:10001839-1771059600-1771063200@paintpaina.com
SUMMARY:Valentines Day Keiki Paint Pāʻina - Ritz-Carlton Turtle Bay\, North Shore Oahu
DESCRIPTION:Join us every Saturday and Sunday morning for A Keiki Paint Pāʻina\, a Hawaiian style paint party for the kids! \nParents may join their children in this fun one hour event from 9am to 10 am in the lobby of the Ritz-Carlton Turtle Bay. \nSign up with the Ritz-Carlton Turtle Bay \nWe use tempura based paints that are non toxic and will wash off with water. Keiki will be able to take home a canvas painting with their own creation.
URL:https://paintpaina.com/event/keiki-paint-pa%ca%bbina-ritz-carlton-turtle-bay-north-shore-oahu-2/
LOCATION:Ritz-Carlton Oʻahu\, Turtle Bay\, 57-091 Kamehameha Hwy\, Kahuku\, HI\, 96712\, United States
ATTACH;FMTTYPE=image/jpeg:https://paintpaina.com/wp-content/uploads/2025/04/Paint-Pono-FOR-WEBSITE.jpg
END:VEVENT
BEGIN:VEVENT
DTSTART;TZID=Pacific/Honolulu:20260214T100000
DTEND;TZID=Pacific/Honolulu:20260214T120000
DTSTAMP:20260419T172124
CREATED:20260125T001753Z
LAST-MODIFIED:20260125T001813Z
UID:10001954-1771063200-1771070400@paintpaina.com
SUMMARY:Bernie Moriaz & Monstera @ Mala Nani\, Haleiwa\, Hawaii - Mixed Metal & Painting🎨 TO BOOK THIS EVENT 🖌  Call or text 808 781-2218
DESCRIPTION:Creating with Bernie! Create a small wall piece using sheet metal\, found metal\, cutting\, painting\, riveting\, learn how to work with mixed media. Bernie will provide all materials and guidance you just bring your creative spirit! This class will be held Saturday am in the garden studio in Pupukea. Bring a friend or sign up by yourself. $75.00 per person\, 4 is the limit for this special class. Call or text Bernie 808 589-6242. Orchids and plants from the garden nursery are also available. \n \n\n\n 
URL:https://paintpaina.com/event/bernie-moriaz-monstera-mala-nani-haleiwa-hawaii-mixed-metal-painting%f0%9f%8e%a8-to-book-this-event-%f0%9f%96%8c-call-or-text-808-781-2218-6/
CATEGORIES:Monstera @ Mala Nani
ATTACH;FMTTYPE=image/jpeg:https://paintpaina.com/wp-content/uploads/2023/03/rooster-scaled.jpg
ORGANIZER;CN="Alicia Malia  Esche":MAILTO:paintpaina@gmail.com
END:VEVENT
BEGIN:VEVENT
DTSTART;TZID=Pacific/Honolulu:20260214T103000
DTEND;TZID=Pacific/Honolulu:20260214T123000
DTSTAMP:20260419T172125
CREATED:20260119T203333Z
LAST-MODIFIED:20260129T081214Z
UID:10001952-1771065000-1771072200@paintpaina.com
SUMMARY:Valentines Workshop w/Paint Pāʻina & Monstera Mala Nani\, Haleiwa\, Hawaii 🖌 Acrylic Pour 🎨 BOOK NOW or 📞 808 781-2218☕️
DESCRIPTION:Join us this Valentine’s Day for a paint party at Monstera Mala Nani; a plant nursery in Pupukea. Learn how to do an acrylic pour\, Artist Alicia Esche will be there to help you every step of the way! We will be doing three pours\, one on a small canvas\, one on a heart shaped piece of wood and one on a river rock. Tickets are just $60.00 each and included in the ticket price is your choice of a beautiful bromeliad or orchid from the nursery to take home with your masterpiece! Call 808 781-2218 if you have questions about booking this special event! \nTicket includes canvas\, supplies\, artist instruction\, and HI G.E.Tax \nblooming plant included in your ticket price\, gratuity not included in ticket price \nNo alcohol at this event but I will bring some coffee!! \nE Komo Mai! All are welcome!  \nTo book bigger groups or if you have any questions you can e-mail us at paintpaina@gmail.com
URL:https://paintpaina.com/event/valentines-workshop-w-paint-pa%ca%bbina-monstera-mala-nani-haleiwa-hawaii-%f0%9f%96%8c-acrylic-pour-%f0%9f%8e%a8-book-now-or-%f0%9f%93%9e-808-781-2218%e2%98%95%ef%b8%8f/
CATEGORIES:Monstera @ Mala Nani
ATTACH;FMTTYPE=image/jpeg:https://paintpaina.com/wp-content/uploads/2026/01/Acrylic-pour-VD.jpg
ORGANIZER;CN="Alicia Malia  Esche":MAILTO:paintpaina@gmail.com
END:VEVENT
END:VCALENDAR