BEGIN:VCALENDAR
VERSION:2.0
PRODID:-//PAINT PAINA - ECPv6.15.20//NONSGML v1.0//EN
CALSCALE:GREGORIAN
METHOD:PUBLISH
X-WR-CALNAME:PAINT PAINA
X-ORIGINAL-URL:https://paintpaina.com
X-WR-CALDESC:Events for PAINT PAINA
REFRESH-INTERVAL;VALUE=DURATION:PT1H
X-Robots-Tag:noindex
X-PUBLISHED-TTL:PT1H
BEGIN:VTIMEZONE
TZID:Pacific/Honolulu
BEGIN:STANDARD
TZOFFSETFROM:-1000
TZOFFSETTO:-1000
TZNAME:HST
DTSTART:20250101T000000
END:STANDARD
END:VTIMEZONE
BEGIN:VEVENT
DTSTART;TZID=Pacific/Honolulu:20260207T090000
DTEND;TZID=Pacific/Honolulu:20260207T100000
DTSTAMP:20260419T172120
CREATED:20251025T221802Z
LAST-MODIFIED:20251025T221844Z
UID:10001837-1770454800-1770458400@paintpaina.com
SUMMARY:Keiki Paint Pāʻina - Ritz-Carlton Turtle Bay\, North Shore Oahu
DESCRIPTION:Join us every Saturday and Sunday morning for A Keiki Paint Pāʻina\, a Hawaiian style paint party for the kids! \nParents may join their children in this fun one hour event from 9am to 10 am in the lobby of the Ritz-Carlton Turtle Bay. \nSign up with the Ritz-Carlton Turtle Bay \nWe use tempura based paints that are non toxic and will wash off with water. Keiki will be able to take home a canvas painting with their own creation.
URL:https://paintpaina.com/event/keiki-paint-pa%ca%bbina-ritz-carlton-turtle-bay-north-shore-oahu/2026-02-07/
LOCATION:Ritz-Carlton Oʻahu\, Turtle Bay\, 57-091 Kamehameha Hwy\, Kahuku\, HI\, 96712\, United States
ATTACH;FMTTYPE=image/jpeg:https://paintpaina.com/wp-content/uploads/2025/04/Paint-Pono-FOR-WEBSITE.jpg
END:VEVENT
BEGIN:VEVENT
DTSTART;TZID=Pacific/Honolulu:20260207T130000
DTEND;TZID=Pacific/Honolulu:20260207T150000
DTSTAMP:20260419T172120
CREATED:20260117T210615Z
LAST-MODIFIED:20260117T230436Z
UID:10001938-1770469200-1770476400@paintpaina.com
SUMMARY:Paint Pāʻina\, Valentines Paint Party @ AYA GOLF LOUNGE\, Keeaumoku Street\, Honolulu\, Hawaii
DESCRIPTION:Join us at AYA GOLF LOUNGE for a VALENTINES Paint and SIP\nFebruary 7th from 1-3pm\nPaint experience only $45.00\nVIP experience for 2 painters  includes mini charcuterie board and 1 bottle of wine $200.00VIP Ticket includes: Mini charcuterie board and one bottle wine choice; MEIOMI PINOT or DUCKHORN SAUVIGNON\nAll painting supplies and artist instruction\, HI G.E.Tax included in ticket price\n*Gratuity not included in ticket prices\n\nFREE Parking in the Azure complex up the ramp. Lounge is located on the street level with street entry
URL:https://paintpaina.com/event/paint-pa%ca%bbina-valentines-paint-party-aya-golf-lounge-keeaumoku-street-honolulu-hawaii/
ATTACH;FMTTYPE=image/jpeg:https://paintpaina.com/wp-content/uploads/2026/01/AYA-Valentines-ART.jpeg
END:VEVENT
END:VCALENDAR